BEGIN:VCALENDAR
VERSION:2.0
CALSCALE:GREGORIAN
PRODID:adamgibbons/ics
METHOD:PUBLISH
X-PUBLISHED-TTL:PT1H
BEGIN:VEVENT
UID:263@gancio.invegendo.org
SUMMARY:15 anni di Trump. Uno sguardo storico
DTSTAMP:20260424T124758Z
DTSTART:20260429T153000Z
DESCRIPTION:15 anni di Trump. Uno sguardo storico.\n\nNe parliamo con Ferdi
	nando Fasce\, studioso di storia delle Americhe
URL:https://gancio.invegendo.org/event/15-anni-di-trump-uno-sguardo-storico
LOCATION:Biblioteca Libertaria F. Ferrer - Piazza Embriaci 5/13
STATUS:CONFIRMED
CATEGORIES:
X-ALT-DESC;FMTTYPE=text/html:<p>15 anni di Trump. Uno sguardo storico.</p><
	p>Ne parliamo con Ferdinando Fasce, studioso di storia delle Americhe</p>
BEGIN:VALARM
ACTION:DISPLAY
DESCRIPTION:15 anni di Trump. Uno sguardo storico
TRIGGER:-PT1H
END:VALARM
END:VEVENT
END:VCALENDAR
