BEGIN:VCALENDAR
VERSION:2.0
CALSCALE:GREGORIAN
PRODID:adamgibbons/ics
METHOD:PUBLISH
X-PUBLISHED-TTL:PT1H
BEGIN:VEVENT
UID:260@gancio.invegendo.org
SUMMARY:Cinema in Collina
DTSTAMP:20260421T124842Z
DTSTART:20260422T190000Z
DESCRIPTION:Penultimo appuntamento\, proproniamo per questo mercoledì: The 
	Rules of\nAttraction\, adattamento cinematografico dell'omonimo romanzo di
	 Bret Eston\nEllis.\n\nE sì\, è proprio lo stesso scrittore di American Ps
	ycho e infatti uno dei\nprotagonisti del film\, Sean\, è il fratello minor
	e di nientepopodimeno che\nPatrick Bateman\, il nostro broker psicotico pr
	eferito.\n\nThe Rules of Attraction\, uscito nel 2002 è stato diretto da R
	oger Avary\, segue\nla storia di tre personaggi principali\, Sean\, Lauren
	 e Paul\, con i loro relativi\npunti di vista e inizia dalla fine\; si ria
	vvolge indietro e ripercorre gli\neventi che ci porteranno tutti alla fest
	a per la fine del mondo.\n\nÈ un racconto sull'incompiuto\, sul fallimento
	\, sulle speranze e aspettative che\nsi hanno in quella fase della vita ch
	e abbiamo scelto per il tema di questa\nprima rassegna.\n\nSperiamo lo odi
	erete con noi\,\n\nBuona visione ♠️
URL:https://gancio.invegendo.org/event/cinema-in-collina-3
GEO:44.4053;8.92983
LOCATION:Libera Collina di Castello - Piazza Santa Maria in Passione
STATUS:CONFIRMED
CATEGORIES:film
X-ALT-DESC;FMTTYPE=text/html:<p>Penultimo appuntamento, proproniamo per que
	sto mercoledì: The Rules of Attraction, adattamento cinematografico dell'o
	monimo romanzo di Bret Eston Ellis.</p><p>E sì, è proprio lo stesso scritt
	ore di American Psycho e infatti uno dei protagonisti del film, Sean, è il
	 fratello minore di nientepopodimeno che Patrick Bateman, il nostro broker
	 psicotico preferito.</p><p>The Rules of Attraction, uscito nel  2002 è st
	ato diretto da Roger Avary, segue la storia di tre personaggi principali, 
	Sean, Lauren e Paul, con i loro relativi punti di vista e inizia dalla fin
	e; si riavvolge indietro e ripercorre gli eventi che ci porteranno tutti a
	lla festa per la fine del mondo.</p><p>È un racconto sull'incompiuto, sul 
	fallimento, sulle speranze e aspettative che si hanno in quella fase della
	 vita che abbiamo scelto per il tema di questa prima rassegna.</p><p>Speri
	amo lo odierete con noi,</p><p>Buona visione ♠️</p>
BEGIN:VALARM
ACTION:DISPLAY
DESCRIPTION:Cinema in Collina
TRIGGER:-PT1H
END:VALARM
END:VEVENT
END:VCALENDAR
