BEGIN:VCALENDAR
VERSION:2.0
CALSCALE:GREGORIAN
PRODID:adamgibbons/ics
METHOD:PUBLISH
X-PUBLISHED-TTL:PT1H
BEGIN:VEVENT
UID:261@gancio.invegendo.org
SUMMARY:Per non perdere le staffette
DTSTAMP:20260423T113855Z
DTSTART:20260425T100000Z
DESCRIPTION:Per non perdere le staffette\n\nUno spettacolo dedicato al ruol
	o delle donne nella Resistenza seriamente e con\nil cuore allegro\n\n
URL:https://gancio.invegendo.org/event/per-non-perdere-le-staffette
GEO:44.4053;8.92983
LOCATION:Libera Collina di Castello - Piazza Santa Maria in Passione
STATUS:CONFIRMED
CATEGORIES:teatro
X-ALT-DESC;FMTTYPE=text/html:<p>Per non perdere le staffette</p><p>Uno spet
	tacolo dedicato al ruolo delle donne nella Resistenza seriamente e con il 
	cuore allegro</p><p></p>
BEGIN:VALARM
ACTION:DISPLAY
DESCRIPTION:Per non perdere le staffette
TRIGGER:-PT1H
END:VALARM
END:VEVENT
END:VCALENDAR
