BEGIN:VCALENDAR
VERSION:2.0
CALSCALE:GREGORIAN
PRODID:adamgibbons/ics
METHOD:PUBLISH
X-PUBLISHED-TTL:PT1H
BEGIN:VEVENT
UID:262@gancio.invegendo.org
SUMMARY:Temucucuy: resistenza di una comunità mapuche sotto assedio
DTSTAMP:20260423T113337Z
DTSTART:20260429T163000Z
DTEND:20260429T203000Z
DESCRIPTION:Nel cuore del Wallmapu\, la regione storica del popolo mapuche 
	in Cile\, esiste\nuna comunità che da decenni si trova al centro di un con
	flitto politico\,\nterritoriale e simbolico: Temucuicui. Nell’ultimo perio
	do\, il territorio è stato\nsorvolato da droni dell’esercito e da un aereo
	 da ricognizione\, mentre il\nneopresidente Kast ha annunciato una politic
	a repressiva mirata contro la\ncomunità.\n\nNe parliamo con Elena Rusca\, 
	giornalista corrispondente per "El Clarín de Chile"\nalle Nazioni Unite a 
	Ginevra\, Svizzera\, esperta in economia e diritti umani per\nl'America La
	tina\, il Medio Oriente e l'Africa.\n\n🍺🍛🥣Ore 18.30 aperitivo per tuttə\n🌎
	🎤📽️Ore 20.00 dibattito
URL:https://gancio.invegendo.org/event/temucucuy-resistenza-di-una-comunita
	-mapuche-in-lotta
GEO:44.4131;8.9273
LOCATION:AutAut357 - 5 rosso\, Via delle Fontane\, Prè\, Centro Est\, Genov
	a\, Liguria\, 16124\, Italia
STATUS:CONFIRMED
CATEGORIES:aperitivo,assemblea,Genova
X-ALT-DESC;FMTTYPE=text/html:<p>Nel cuore del Wallmapu, la regione storica 
	del popolo mapuche in Cile, esiste una comunità che da decenni si trova al
	 centro di un conflitto politico, territoriale e simbolico: <strong>Temucu
	icui</strong>. Nell’ultimo periodo, il territorio è stato sorvolato da dro
	ni dell’esercito e da un aereo da ricognizione, mentre il neopresidente Ka
	st ha annunciato una politica repressiva mirata contro la comunità.<br><br
	>Ne parliamo con Elena Rusca, giornalista corrispondente per "El Clarín de
	 Chile" alle Nazioni Unite a Ginevra, Svizzera, esperta in economia e diri
	tti umani per l'America Latina, il Medio Oriente e l'Africa.<br><br>🍺🍛🥣Ore
	 18.30 aperitivo per tuttə <br>🌎🎤📽️Ore 20.00 dibattito</p>
BEGIN:VALARM
ACTION:DISPLAY
DESCRIPTION:Temucucuy: resistenza di una comunità mapuche sotto assedio
TRIGGER:-PT1H
END:VALARM
END:VEVENT
END:VCALENDAR
